Workbook

Sheet Vejledning
A1: Vejledning til prisberegner:
A3: Prisberegneren skal udfyldes på følgende måde:
A5: 1) Vælg i fanerne om I skal lave prisberegningen for "Projektdatabaser" eller "Forskerordninger" .
A7: 2) Felter, der er markeret med blå, kan udfyldes, herunder følgende:
A9: a. Nummer på projekt eller forskerordning: Der er mulighed for at indtaste nummeret på projektet eller forskerordningen.
A10: b. Virksomhedstype: Vælg via filtret om I er en offentlig eller privat virksomhed
A11: c. Datapakker: Indtast hvor mange datapakker I forventer at være godkendt til. For forskerordninger er dette kun relevant, hvis der bestilles nye data.
A12: d. Unikke certificerede brugere: Indtast det antal unikke certificerede brugere pr. underprojekt eller forskerordning, som I forventer får adgang i løbet af året. For projektdatabaser skal der kun indtastes i underprojekterne, idet der ikke betales for certificerede brugere på hovedprojektet.
A13: Service
A14: e. Projektindstilling: Indtast det antal projektindstillinger, som I forventer, at få godkendt i løbet året. Bemærk, at der kun skal laves en projektindstilling, hvis der tilkøbes en ny pakke eller eksterne data, der ikke tidligere er beskrevet.
A15: f. Rådgivningstimer: Indtast det antal rådgivningstimer, som DST forventes at skulle levere.
A16: g. Eksterne data: Indtast det antal timer, som DST forventes at skulle bruge på håndtering af eksterne data. Find vejledende timeforbrug ved indsendt data her: | P16: https://www.dst.dk/da/TilSalg/data-til-forskning/databestilling/tilknytning-af-eksterne-data
A17: h. Andet: Indtast det antal timer, som DST forventes, at skulle bruge på f.eks populationsdannelse, særlige leverancer for statistikkontorer og geodata.
A19: 3) Diskleje: Indtast hvor meget serverplads, der forventes, at skulle bruges. Dette skal angives i GB.
A22: Takster | B22: Offentlig | C22: Privat
A23: Datapakker stk. pr. år | B23: 4400 | C23: 5500
A24: Projektadgange stk. pr. år | B24: 700 | C24: 900
A25: Timetakster | B25: 1100 | C25: 1400
A26: Diskleje kr. pr. 5 GB lagerplads pr. kvartal | B26: 10.8 | C26: 10.8

Sheet I alt
A1: Prisberegner
A4: Projektdatabaser og forskerordninger i alt | B4: Projektdatabaser | C4: Forskerordninger | D4: I alt
A7: Datapakker | B7: =+Projektdatabaser!D7 -> 0 | C7: =+Forskerordninger!D7 -> 0 | D7: =+Projektdatabaser!D7+Forskerordninger!D7 -> 0
A8: Unikke certificerede brugere | B8: =+Projektdatabaser!D8 -> 0 | C8: =+Forskerordninger!D8 -> 0 | D8: =+Projektdatabaser!D8+Forskerordninger!D8 -> 0
A9: Service
A10: Projektindstilling | B10: =+Projektdatabaser!D10 -> 0 | C10: =+Forskerordninger!D10 -> 0 | D10: =+Projektdatabaser!D10+Forskerordninger!D10 -> 0
A11: Rådgivningstimer | B11: =+Projektdatabaser!D11 -> 0 | C11: =+Forskerordninger!D11 -> 0 | D11: =+Projektdatabaser!D11+Forskerordninger!D11 -> 0
A12: Eksterne data | B12: =+Projektdatabaser!D12 -> 0 | C12: =+Forskerordninger!D12 -> 0 | D12: =+Projektdatabaser!D12+Forskerordninger!D12 -> 0
A13: Andet* | B13: =+Projektdatabaser!D13 -> 0 | C13: =+Forskerordninger!D13 -> 0 | D13: =+Projektdatabaser!D13+Forskerordninger!D13 -> 0
A14: Diskleje (angiv antal GB) | B14: =+Projektdatabaser!D14 -> 0 | C14: =+Forskerordninger!D14 -> 0 | D14: =+Projektdatabaser!D14+Forskerordninger!D14 -> 0
A16: I alt | B16: =SUM(B7:B14) -> 0 | C16: =SUM(C7:C14) -> 0 | D16: =SUM(D7:D14) -> 0
A18: * Populationer, særlige leverancer for statistik kontorer, geodata

Sheet Projektdatabaser
A1: Prisberegner
C2: Overblik | F2: Felter til udfyldning
F3: Hovedprojekt nummer | G3: Underprojektnumre
A4: Projektdatabaser | C4: Antal | D4: Beløb
A6: Privat eller offentlig virksomhed (stå i feltet og vælg fra rullegardin) | F6: Offentlig
A7: Datapakker (angiv antal datapakker) | C7: =SUM(G7:HX7)+F7*4 -> 0 | D7: =+data!D5 -> 0
A8: Unikke certificerede brugere (angiv antal unikke certificerede brugere) | C8: =SUM(F8:HX8) -> 0 | D8: =+data!D9 -> 0 | F8: Skal ikke udfyldes
A9: Service
A10: Projektindstilling (angiv antal projektindtillinger) | C10: =SUM(F10:HX10) -> 0 | D10: =+data!D13 -> 0
A11: Rådgivningstimer (angiv antal timer) | C11: =SUM(F11:HX11) -> 0 | D11: =+data!D17 -> 0
A12: Eksterne data (angiv antal timer) | C12: =SUM(F12:HX12) -> 0 | D12: =+data!D21 -> 0
A13: Andet* (angiv antal timer) | C13: =SUM(F13:HX13) -> 0 | D13: =+data!D25 -> 0
A14: Diskleje (angiv antal GB) | C14: =SUM(F14:HX14) -> 0 | D14: =data!D29 -> 0
A16: I alt | D16: =SUM(D7:D14) -> 0
A18: * Populationer, særlige leverancer for statistik kontorer, geodata

Sheet Forskerordninger
A1: Prisberegner
C2: Overblik | F2: Felter til udfyldning
F3: Nummer på forskerordningen
A4: Forskerordninger | C4: Antal | D4: Beløb
A6: Privat eller offentlig virksomhed (stå i feltet og vælg fra rullegardin) | F6: Offentlig
A7: Datapakker (angiv antal datapakker ved 1. køb efter 1/1-2027) | C7: =SUM(F7:HX7) -> 0 | D7: =+data!D6 -> 0
A8: Unikke certificerede brugere (angiv antal unikke certificerede brugere) | C8: =SUM(F8:HX8) -> 0 | D8: =+data!D10 -> 0
A9: Service
A10: Projektindstilling (angiv antal projektindtillinger) | C10: =SUM(F10:HX10) -> 0 | D10: =+data!D14 -> 0
A11: Rådgivningstimer (angiv antal timer) | C11: =SUM(F11:HX11) -> 0 | D11: =+data!D18 -> 0
A12: Eksterne data (angiv antal timer) | C12: =SUM(F12:HX12) -> 0 | D12: =+data!D22 -> 0
A13: Andet* (angiv antal timer) | C13: =SUM(F13:HX13) -> 0 | D13: =+data!D26 -> 0
A14: Diskleje (angiv antal GB) | C14: =SUM(F14:HX14) -> 0 | D14: =data!D30 -> 0
A16: I alt | D16: =SUM(D7:D14) -> 0
A18: * Populationer, særlige leverancer for statistik kontorer, geodata

Sheet data
A2: Offentlig eller privat virksomhed | B2: Offentlig | C2: Privat | D2: Resultat
A4: Datapakker
A5: Projektdatabaser | B5: =Projektdatabaser!C7*B33 -> 0 | C5: =Projektdatabaser!C7*C33 -> 0 | D5: =+IF(Projektdatabaser!F6=data!B2,data!B5,data!C5) -> 0
A6: Forskerordninger | B6: =Forskerordninger!C7*B33 -> 0 | C6: =Forskerordninger!C7*C33 -> 0 | D6: =+IF(Forskerordninger!F6=data!B2,data!B6,data!C6) -> 0
A8: Unikke certificerede brugere
A9: Projektdatabaser | B9: =Projektdatabaser!C8*data!B34 -> 0 | C9: =Projektdatabaser!C8*data!C34 -> 0 | D9: =+IF(Projektdatabaser!F6=data!B2,data!B9,data!C9) -> 0
A10: Forskerordninger | B10: =Forskerordninger!C8*data!B34 -> 0 | C10: =Forskerordninger!C8*data!C34 -> 0 | D10: =+IF(Forskerordninger!F6=data!B2,data!B10,data!C10) -> 0
A12: Projektindstilling a 5 timer
A13: Projektdatabaser | B13: =5*B35*Projektdatabaser!C10 -> 0 | C13: =5*C35*Projektdatabaser!C10 -> 0 | D13: =+IF(Projektdatabaser!F6=data!B2,data!B13,data!C13) -> 0
A14: Forskerordningen | B14: =5*B35*Forskerordninger!C10 -> 0 | C14: =5*C35*Forskerordninger!C10 -> 0 | D14: =+IF(Forskerordninger!F6=data!B2,data!B14,data!C14) -> 0
A16: Rådgivningstimer
A17: Projektdatabaser | B17: =Projektdatabaser!C11*B35 -> 0 | C17: =Projektdatabaser!C11*data!C35 -> 0 | D17: =+IF(Projektdatabaser!F6=data!B2,data!B17,data!C17) -> 0
A18: Forskerordninger | B18: =Forskerordninger!C11*B35 -> 0 | C18: =Forskerordninger!C11*data!C35 -> 0 | D18: =+IF(Forskerordninger!F6=data!B2,data!B18,data!C18) -> 0
A20: Eksterne data
A21: Projektdatabaser | B21: =Projektdatabaser!C12*data!B35 -> 0 | C21: =Projektdatabaser!C12*data!C35 -> 0 | D21: =+IF(Projektdatabaser!F6=data!B2,data!B21,data!C21) -> 0
A22: Forskerordninger | B22: =Forskerordninger!C12*data!B35 -> 0 | C22: =Forskerordninger!C12*data!C35 -> 0 | D22: =+IF(Forskerordninger!F6=data!B2,data!B22,data!C22) -> 0
A24: Andet
A25: Projektdatabaser | B25: =Projektdatabaser!C13*data!B35 -> 0 | C25: =Projektdatabaser!C13*data!C35 -> 0 | D25: =+IF(Projektdatabaser!F6=data!B2,data!B25,data!C25) -> 0
A26: Forskerordninger | B26: =Forskerordninger!C13*data!B35 -> 0 | C26: =Forskerordninger!C13*data!C35 -> 0 | D26: =+IF(Forskerordninger!F6=data!B2,data!B26,data!C26) -> 0
A28: Diskleje
A29: Projektdatabaser | B29: =ROUNDDOWN(Projektdatabaser!C14/5,0)*data!B36*4 -> 0 | C29: =ROUNDDOWN(Projektdatabaser!C14/5,0)*data!C36*4 -> 0 | D29: =+IF(Projektdatabaser!F6=data!B2,data!B29,data!C29) -> 0
A30: Forskerordninger | B30: =ROUNDDOWN(Forskerordninger!C14/5,0)*data!B36*4 -> 0 | C30: =ROUNDDOWN(Forskerordninger!C14/5,0)*data!C36*4 -> 0 | D30: =+IF(Forskerordninger!F6=data!B2,data!B30,data!C30) -> 0
A32: Takster | B32: Offentlig | C32: Privat
A33: Datapakker stk. pr. år | B33: 4400 | C33: 5500
A34: Projektadgange stk. pr. år | B34: 700 | C34: 900
A35: Timetakster | B35: 1100 | C35: 1400
A36: Diskleje kr. pr. 5 GB lagerplads pr. kvartal | B36: 10.8 | C36: 10.8
A38: Sti til takster på internettet | B38: Priser og prisaftaler - Danmarks Statistik
A41: Kontrol
D42: off | E42: privat
A43: Projektdatabaser | B43: =+B5+B9+B13+B17+B21+B25+B29 -> 0 | C43: =+C5+C9+C13+C17+C21+C25+C29 -> 0 | D43: =+Projektdatabaser!D16-data!B43 -> 0 | E43: =+C43-Projektdatabaser!D16 -> 0
A44: Forskerordninger | B44: =+B6+B10+B14+B18+B22+B26+B30 -> 0 | C44: =+C6+C10+C14+C18+C22+C26+C30 -> 0 | D44: =+B44-Forskerordninger!D16 -> 0 | E44: =+C44-Forskerordninger!D16 -> 0
